BEGIN:VCALENDAR
VERSION:2.0
PRODID:-//University Club at VPI &amp; SU (Virginia Tech) - ECPv6.15.20//NONSGML v1.0//EN
CALSCALE:GREGORIAN
METHOD:PUBLISH
X-WR-CALNAME:University Club at VPI &amp; SU (Virginia Tech)
X-ORIGINAL-URL:https://uclubvt.com
X-WR-CALDESC:Events for University Club at VPI &amp; SU (Virginia Tech)
REFRESH-INTERVAL;VALUE=DURATION:PT1H
X-Robots-Tag:noindex
X-PUBLISHED-TTL:PT1H
BEGIN:VTIMEZONE
TZID:America/New_York
BEGIN:DAYLIGHT
TZOFFSETFROM:-0500
TZOFFSETTO:-0400
TZNAME:EDT
DTSTART:20220313T070000
END:DAYLIGHT
BEGIN:STANDARD
TZOFFSETFROM:-0400
TZOFFSETTO:-0500
TZNAME:EST
DTSTART:20221106T060000
END:STANDARD
BEGIN:DAYLIGHT
TZOFFSETFROM:-0500
TZOFFSETTO:-0400
TZNAME:EDT
DTSTART:20230312T070000
END:DAYLIGHT
BEGIN:STANDARD
TZOFFSETFROM:-0400
TZOFFSETTO:-0500
TZNAME:EST
DTSTART:20231105T060000
END:STANDARD
BEGIN:DAYLIGHT
TZOFFSETFROM:-0500
TZOFFSETTO:-0400
TZNAME:EDT
DTSTART:20240310T070000
END:DAYLIGHT
BEGIN:STANDARD
TZOFFSETFROM:-0400
TZOFFSETTO:-0500
TZNAME:EST
DTSTART:20241103T060000
END:STANDARD
BEGIN:DAYLIGHT
TZOFFSETFROM:-0500
TZOFFSETTO:-0400
TZNAME:EDT
DTSTART:20250309T070000
END:DAYLIGHT
BEGIN:STANDARD
TZOFFSETFROM:-0400
TZOFFSETTO:-0500
TZNAME:EST
DTSTART:20251102T060000
END:STANDARD
END:VTIMEZONE
BEGIN:VEVENT
DTSTART;TZID=America/New_York:20240918T173000
DTEND;TZID=America/New_York:20240918T190000
DTSTAMP:20260425T070450
CREATED:20240224T151830Z
LAST-MODIFIED:20240224T151830Z
UID:1212-1726680600-1726686000@uclubvt.com
SUMMARY:September Happy Hour
DESCRIPTION:UClub members and their guests are invited to our monthly happy hour.
URL:https://uclubvt.com/event/september-happy-hour/
LOCATION:German Club\, 711 Southgate Drive\, Blacksburg\, VA\, 24060\, United States
CATEGORIES:Happy Hour
ATTACH;FMTTYPE=image/jpeg:https://uclubvt.com/wp-content/uploads/2018/06/HappyHourFeatured-2.jpg
END:VEVENT
BEGIN:VEVENT
DTSTART;TZID=America/New_York:20240821T173000
DTEND;TZID=America/New_York:20240821T190000
DTSTAMP:20260425T070450
CREATED:20240224T151732Z
LAST-MODIFIED:20240618T013637Z
UID:1210-1724261400-1724266800@uclubvt.com
SUMMARY:August Happy Hour
DESCRIPTION:UClub members and their guests are invited to our monthly happy hour.
URL:https://uclubvt.com/event/august-happy-hour/
LOCATION:German Club\, 711 Southgate Drive\, Blacksburg\, VA\, 24060\, United States
CATEGORIES:Happy Hour
ATTACH;FMTTYPE=image/jpeg:https://uclubvt.com/wp-content/uploads/2018/06/HappyHourFeatured-2.jpg
END:VEVENT
BEGIN:VEVENT
DTSTART;TZID=America/New_York:20240717T173000
DTEND;TZID=America/New_York:20240717T190000
DTSTAMP:20260425T070450
CREATED:20240224T151638Z
LAST-MODIFIED:20240224T151638Z
UID:1208-1721237400-1721242800@uclubvt.com
SUMMARY:July Happy Hour
DESCRIPTION:UClub members and their guests are invited to our monthly happy hour.
URL:https://uclubvt.com/event/july-happy-hour/
LOCATION:German Club\, 711 Southgate Drive\, Blacksburg\, VA\, 24060\, United States
CATEGORIES:Happy Hour
ATTACH;FMTTYPE=image/jpeg:https://uclubvt.com/wp-content/uploads/2018/06/HappyHourFeatured-2.jpg
END:VEVENT
BEGIN:VEVENT
DTSTART;TZID=America/New_York:20240612T173000
DTEND;TZID=America/New_York:20240612T190000
DTSTAMP:20260425T070450
CREATED:20240224T151535Z
LAST-MODIFIED:20240224T151535Z
UID:1206-1718213400-1718218800@uclubvt.com
SUMMARY:June Happy Hour
DESCRIPTION:UClub members and their guests are invited to our monthly happy hour.
URL:https://uclubvt.com/event/june-happy-hour/
LOCATION:German Club\, 711 Southgate Drive\, Blacksburg\, VA\, 24060\, United States
CATEGORIES:Happy Hour
ATTACH;FMTTYPE=image/jpeg:https://uclubvt.com/wp-content/uploads/2018/06/HappyHourFeatured-2.jpg
END:VEVENT
BEGIN:VEVENT
DTSTART;TZID=America/New_York:20240515T173000
DTEND;TZID=America/New_York:20240515T190000
DTSTAMP:20260425T070450
CREATED:20240224T151434Z
LAST-MODIFIED:20240224T151434Z
UID:1204-1715794200-1715799600@uclubvt.com
SUMMARY:May Happy Hour
DESCRIPTION:UClub members and their guests are invited to our monthly happy hour.
URL:https://uclubvt.com/event/may-happy-hour/
LOCATION:German Club\, 711 Southgate Drive\, Blacksburg\, VA\, 24060\, United States
CATEGORIES:Happy Hour
ATTACH;FMTTYPE=image/jpeg:https://uclubvt.com/wp-content/uploads/2018/06/HappyHourFeatured-2.jpg
END:VEVENT
BEGIN:VEVENT
DTSTART;TZID=America/New_York:20240418T173000
DTEND;TZID=America/New_York:20240418T190000
DTSTAMP:20260425T070450
CREATED:20240224T151313Z
LAST-MODIFIED:20240224T151313Z
UID:1202-1713461400-1713466800@uclubvt.com
SUMMARY:April Happy Hour
DESCRIPTION:UClub members and their guests are invited to our monthly happy hour.
URL:https://uclubvt.com/event/april-happy-hour/
LOCATION:German Club\, 711 Southgate Drive\, Blacksburg\, VA\, 24060\, United States
CATEGORIES:Happy Hour
ATTACH;FMTTYPE=image/jpeg:https://uclubvt.com/wp-content/uploads/2018/06/HappyHourFeatured-2.jpg
END:VEVENT
BEGIN:VEVENT
DTSTART;TZID=America/New_York:20240313T173000
DTEND;TZID=America/New_York:20240313T190000
DTSTAMP:20260425T070450
CREATED:20240224T150750Z
LAST-MODIFIED:20240224T151153Z
UID:1199-1710351000-1710356400@uclubvt.com
SUMMARY:March Happy Hour
DESCRIPTION:UClub members and their guests are invited to our monthly happy hour.
URL:https://uclubvt.com/event/march-happy-hour-2024/
LOCATION:German Club\, 711 Southgate Drive\, Blacksburg\, VA\, 24060\, United States
CATEGORIES:Happy Hour
ATTACH;FMTTYPE=image/jpeg:https://uclubvt.com/wp-content/uploads/2018/06/HappyHourFeatured-2.jpg
END:VEVENT
BEGIN:VEVENT
DTSTART;TZID=America/New_York:20231205T173000
DTEND;TZID=America/New_York:20231205T190000
DTSTAMP:20260425T070450
CREATED:20230512T014102Z
LAST-MODIFIED:20230512T014102Z
UID:1191-1701797400-1701802800@uclubvt.com
SUMMARY:Holiday Party
DESCRIPTION:Each month the UClub will have a Social event for its members and their guests. Beverages and appetizers will be provided.  Invitations will be sent out by email to members describing the event.  We ask that you RSVP in a timely manner. For further information\, please contact Pat Boyle.
URL:https://uclubvt.com/event/holiday-party-2023/
LOCATION:German Club\, 711 Southgate Drive\, Blacksburg\, VA\, 24060\, United States
CATEGORIES:Holiday Party
ATTACH;FMTTYPE=image/jpeg:https://uclubvt.com/wp-content/uploads/2018/10/Christmasparty.jpg
END:VEVENT
BEGIN:VEVENT
DTSTART;TZID=America/New_York:20231018T173000
DTEND;TZID=America/New_York:20231018T190000
DTSTAMP:20260425T070450
CREATED:20230512T013925Z
LAST-MODIFIED:20230512T013925Z
UID:1189-1697650200-1697655600@uclubvt.com
SUMMARY:Monthly Social - October
DESCRIPTION:Each month the UClub will have a Social event for its members and their guests. Beverages and appetizers will be provided.  Invitations will be sent out by email to members describing the event.  We ask that you RSVP in a timely manner. For further information\, please contact Pat Boyle.
URL:https://uclubvt.com/event/monthly-social-october-2023/
LOCATION:German Club\, 711 Southgate Drive\, Blacksburg\, VA\, 24060\, United States
CATEGORIES:Social
ATTACH;FMTTYPE=image/jpeg:https://uclubvt.com/wp-content/uploads/2018/06/DinnerSocialFeatured.jpg
END:VEVENT
BEGIN:VEVENT
DTSTART;TZID=America/New_York:20230920T173000
DTEND;TZID=America/New_York:20230920T190000
DTSTAMP:20260425T070450
CREATED:20230512T013735Z
LAST-MODIFIED:20230512T013735Z
UID:1187-1695231000-1695236400@uclubvt.com
SUMMARY:Monthly Social - September
DESCRIPTION:Each month the UClub will have a Social event for its members and their guests. Beverages and appetizers will be provided.  Invitations will be sent out by email to members describing the event.  We ask that you RSVP in a timely manner. For further information\, please contact Pat Boyle.
URL:https://uclubvt.com/event/monthly-social-september-2023/
LOCATION:German Club\, 711 Southgate Drive\, Blacksburg\, VA\, 24060\, United States
CATEGORIES:Social
ATTACH;FMTTYPE=image/jpeg:https://uclubvt.com/wp-content/uploads/2018/06/HappyHourFeatured-2.jpg
END:VEVENT
BEGIN:VEVENT
DTSTART;TZID=America/New_York:20230812T173000
DTEND;TZID=America/New_York:20230812T190000
DTSTAMP:20260425T070450
CREATED:20230512T013548Z
LAST-MODIFIED:20230512T013604Z
UID:1185-1691861400-1691866800@uclubvt.com
SUMMARY:Monthly Social - August
DESCRIPTION:Each month the UClub will have a Social event for its members and their guests. Beverages and appetizers will be provided.  Invitations will be sent out by email to members describing the event.  We ask that you RSVP in a timely manner. For further information\, please contact Pat Boyle.
URL:https://uclubvt.com/event/monthly-social-august-2023/
LOCATION:German Club\, 711 Southgate Drive\, Blacksburg\, VA\, 24060\, United States
CATEGORIES:Social
ATTACH;FMTTYPE=image/jpeg:https://uclubvt.com/wp-content/uploads/2018/06/DinnerSocialFeatured.jpg
END:VEVENT
BEGIN:VEVENT
DTSTART;TZID=America/New_York:20230712T173000
DTEND;TZID=America/New_York:20230712T190000
DTSTAMP:20260425T070450
CREATED:20230512T013432Z
LAST-MODIFIED:20230512T013432Z
UID:1183-1689183000-1689188400@uclubvt.com
SUMMARY:Monthly Social - July
DESCRIPTION:Each month the UClub will have a Social event for its members and their guests. Beverages and appetizers will be provided.  Invitations will be sent out by email to members describing the event.  We ask that you RSVP in a timely manner. For further information\, please contact Pat Boyle.
URL:https://uclubvt.com/event/monthly-social-july-2023/
LOCATION:German Club\, 711 Southgate Drive\, Blacksburg\, VA\, 24060\, United States
CATEGORIES:Social
ATTACH;FMTTYPE=image/jpeg:https://uclubvt.com/wp-content/uploads/2018/06/HappyHourFeatured.jpg
END:VEVENT
BEGIN:VEVENT
DTSTART;TZID=America/New_York:20230614T173000
DTEND;TZID=America/New_York:20230614T190000
DTSTAMP:20260425T070450
CREATED:20230512T013228Z
LAST-MODIFIED:20230512T013313Z
UID:1179-1686763800-1686769200@uclubvt.com
SUMMARY:Monthly Social - June
DESCRIPTION:Each month the UClub will have a Social event for its members and their guests. Beverages and appetizers will be provided.  Invitations will be sent out by email to members describing the event.  We ask that you RSVP in a timely manner. For further information\, please contact Pat Boyle.
URL:https://uclubvt.com/event/monthly-social-june-2023/
LOCATION:German Club\, 711 Southgate Drive\, Blacksburg\, VA\, 24060\, United States
CATEGORIES:Social
ATTACH;FMTTYPE=image/jpeg:https://uclubvt.com/wp-content/uploads/2018/06/DinnerSocialFeatured.jpg
END:VEVENT
BEGIN:VEVENT
DTSTART;TZID=America/New_York:20230517T173000
DTEND;TZID=America/New_York:20230517T190000
DTSTAMP:20260425T070450
CREATED:20230512T012111Z
LAST-MODIFIED:20230512T014221Z
UID:1173-1684344600-1684350000@uclubvt.com
SUMMARY:Monthly Social - May
DESCRIPTION:Each month the UClub will have a Social event for its members and their guests. Beverages and appetizers will be provided.  Invitations will be sent out by email to members describing the event.  We ask that you RSVP in a timely manner. For further information\, please contact Pat Boyle.
URL:https://uclubvt.com/event/monthly-social-5-2023/
LOCATION:Otey Street\, 207 Otey Street\, Blacksburg\, VA\, 24060\, United States
CATEGORIES:Social
ATTACH;FMTTYPE=image/jpeg:https://uclubvt.com/wp-content/uploads/2018/06/HappyHourFeatured.jpg
END:VEVENT
END:VCALENDAR