BEGIN:VCALENDAR
VERSION:2.0
PRODID:-//University Club at VPI &amp; SU (Virginia Tech) - ECPv6.15.20//NONSGML v1.0//EN
CALSCALE:GREGORIAN
METHOD:PUBLISH
X-ORIGINAL-URL:https://uclubvt.com
X-WR-CALDESC:Events for University Club at VPI &amp; SU (Virginia Tech)
REFRESH-INTERVAL;VALUE=DURATION:PT1H
X-Robots-Tag:noindex
X-PUBLISHED-TTL:PT1H
BEGIN:VTIMEZONE
TZID:America/New_York
BEGIN:DAYLIGHT
TZOFFSETFROM:-0500
TZOFFSETTO:-0400
TZNAME:EDT
DTSTART:20250309T070000
END:DAYLIGHT
BEGIN:STANDARD
TZOFFSETFROM:-0400
TZOFFSETTO:-0500
TZNAME:EST
DTSTART:20251102T060000
END:STANDARD
BEGIN:DAYLIGHT
TZOFFSETFROM:-0500
TZOFFSETTO:-0400
TZNAME:EDT
DTSTART:20260308T070000
END:DAYLIGHT
BEGIN:STANDARD
TZOFFSETFROM:-0400
TZOFFSETTO:-0500
TZNAME:EST
DTSTART:20261101T060000
END:STANDARD
BEGIN:DAYLIGHT
TZOFFSETFROM:-0500
TZOFFSETTO:-0400
TZNAME:EDT
DTSTART:20270314T070000
END:DAYLIGHT
BEGIN:STANDARD
TZOFFSETFROM:-0400
TZOFFSETTO:-0500
TZNAME:EST
DTSTART:20271107T060000
END:STANDARD
END:VTIMEZONE
BEGIN:VEVENT
DTSTART;TZID=America/New_York:20260916T173000
DTEND;TZID=America/New_York:20260916T190000
DTSTAMP:20260425T063457
CREATED:20260319T184041Z
LAST-MODIFIED:20260319T184041Z
UID:1241-1789579800-1789585200@uclubvt.com
SUMMARY:September 2026 Happy Hour
DESCRIPTION:UClub members and their guests are invited to our monthly happy hour.
URL:https://uclubvt.com/event/september-2026-happy-hour/
LOCATION:Warm Hearth Village Center\, 2387 Warm Hearth Dr\, Blacksburg\, VA\, 24060\, United States
CATEGORIES:Happy Hour
ATTACH;FMTTYPE=image/jpeg:https://uclubvt.com/wp-content/uploads/2018/06/HappyHourFeatured-2.jpg
END:VEVENT
BEGIN:VEVENT
DTSTART;TZID=America/New_York:20261021T173000
DTEND;TZID=America/New_York:20261021T190000
DTSTAMP:20260425T063457
CREATED:20260319T184439Z
LAST-MODIFIED:20260406T135420Z
UID:1245-1792603800-1792609200@uclubvt.com
SUMMARY:October 2026 Happy Hour
DESCRIPTION:UClub members and their guests are invited to our monthly happy hour.
URL:https://uclubvt.com/event/october-2026-happy-hour/
LOCATION:Warm Hearth Village Center\, 2387 Warm Hearth Dr\, Blacksburg\, VA\, 24060\, United States
CATEGORIES:Happy Hour
ATTACH;FMTTYPE=image/jpeg:https://uclubvt.com/wp-content/uploads/2018/06/HappyHourFeatured-2.jpg
END:VEVENT
BEGIN:VEVENT
DTSTART;TZID=America/New_York:20261118T173000
DTEND;TZID=America/New_York:20261118T190000
DTSTAMP:20260425T063457
CREATED:20260406T135812Z
LAST-MODIFIED:20260406T135812Z
UID:1253-1795023000-1795028400@uclubvt.com
SUMMARY:November 2026 Happy Hour
DESCRIPTION:UClub members and their guests are invited to our monthly happy hour.
URL:https://uclubvt.com/event/november-2026-happy-hour/
LOCATION:Warm Hearth Village Center\, 2387 Warm Hearth Dr\, Blacksburg\, VA\, 24060\, United States
CATEGORIES:Happy Hour
ATTACH;FMTTYPE=image/jpeg:https://uclubvt.com/wp-content/uploads/2018/06/HappyHourFeatured-1.jpg
END:VEVENT
BEGIN:VEVENT
DTSTART;TZID=America/New_York:20261216T173000
DTEND;TZID=America/New_York:20261216T190000
DTSTAMP:20260425T063457
CREATED:20260319T184638Z
LAST-MODIFIED:20260319T184638Z
UID:1248-1797442200-1797447600@uclubvt.com
SUMMARY:Holiday Party 2026
DESCRIPTION:UClub members and their guests are invited to our holiday party. More details forthcoming by email.
URL:https://uclubvt.com/event/holiday-party-2026/
LOCATION:Warm Hearth Village Center\, 2387 Warm Hearth Dr\, Blacksburg\, VA\, 24060\, United States
CATEGORIES:Holiday Party
ATTACH;FMTTYPE=image/jpeg:https://uclubvt.com/wp-content/uploads/2018/10/Christmasparty.jpg
END:VEVENT
END:VCALENDAR