BEGIN:VCALENDAR
VERSION:2.0
PRODID:-//University Club at VPI &amp; SU (Virginia Tech) - ECPv6.15.20//NONSGML v1.0//EN
CALSCALE:GREGORIAN
METHOD:PUBLISH
X-ORIGINAL-URL:https://uclubvt.com
X-WR-CALDESC:Events for University Club at VPI &amp; SU (Virginia Tech)
REFRESH-INTERVAL;VALUE=DURATION:PT1H
X-Robots-Tag:noindex
X-PUBLISHED-TTL:PT1H
BEGIN:VTIMEZONE
TZID:America/New_York
BEGIN:DAYLIGHT
TZOFFSETFROM:-0500
TZOFFSETTO:-0400
TZNAME:EDT
DTSTART:20220313T070000
END:DAYLIGHT
BEGIN:STANDARD
TZOFFSETFROM:-0400
TZOFFSETTO:-0500
TZNAME:EST
DTSTART:20221106T060000
END:STANDARD
BEGIN:DAYLIGHT
TZOFFSETFROM:-0500
TZOFFSETTO:-0400
TZNAME:EDT
DTSTART:20230312T070000
END:DAYLIGHT
BEGIN:STANDARD
TZOFFSETFROM:-0400
TZOFFSETTO:-0500
TZNAME:EST
DTSTART:20231105T060000
END:STANDARD
BEGIN:DAYLIGHT
TZOFFSETFROM:-0500
TZOFFSETTO:-0400
TZNAME:EDT
DTSTART:20240310T070000
END:DAYLIGHT
BEGIN:STANDARD
TZOFFSETFROM:-0400
TZOFFSETTO:-0500
TZNAME:EST
DTSTART:20241103T060000
END:STANDARD
BEGIN:DAYLIGHT
TZOFFSETFROM:-0500
TZOFFSETTO:-0400
TZNAME:EDT
DTSTART:20250309T070000
END:DAYLIGHT
BEGIN:STANDARD
TZOFFSETFROM:-0400
TZOFFSETTO:-0500
TZNAME:EST
DTSTART:20251102T060000
END:STANDARD
BEGIN:DAYLIGHT
TZOFFSETFROM:-0500
TZOFFSETTO:-0400
TZNAME:EDT
DTSTART:20260308T070000
END:DAYLIGHT
BEGIN:STANDARD
TZOFFSETFROM:-0400
TZOFFSETTO:-0500
TZNAME:EST
DTSTART:20261101T060000
END:STANDARD
END:VTIMEZONE
BEGIN:VEVENT
DTSTART;TZID=America/New_York:20251217T173000
DTEND;TZID=America/New_York:20251217T190000
DTSTAMP:20260424T181001
CREATED:20250717T193755Z
LAST-MODIFIED:20250717T193755Z
UID:1226-1765992600-1765998000@uclubvt.com
SUMMARY:Holiday Party
DESCRIPTION:UClub members and their guests are invited to our holiday party. More details forthcoming by email.
URL:https://uclubvt.com/event/holiday-party-2025/
LOCATION:Warm Hearth Village Center\, 2387 Warm Hearth Dr\, Blacksburg\, VA\, 24060\, United States
CATEGORIES:Holiday Party
ATTACH;FMTTYPE=image/jpeg:https://uclubvt.com/wp-content/uploads/2018/10/Christmasparty.jpg
END:VEVENT
BEGIN:VEVENT
DTSTART;TZID=America/New_York:20241211T173000
DTEND;TZID=America/New_York:20241211T190000
DTSTAMP:20260424T181001
CREATED:20240224T152138Z
LAST-MODIFIED:20240224T152138Z
UID:1216-1733938200-1733943600@uclubvt.com
SUMMARY:Holiday Party
DESCRIPTION:UClub members and their guests are invited to our holiday party. More details forthcoming by email.
URL:https://uclubvt.com/event/holiday-party-2024/
LOCATION:German Club\, 711 Southgate Drive\, Blacksburg\, VA\, 24060\, United States
CATEGORIES:Holiday Party
ATTACH;FMTTYPE=image/jpeg:https://uclubvt.com/wp-content/uploads/2018/10/Christmasparty.jpg
END:VEVENT
BEGIN:VEVENT
DTSTART;TZID=America/New_York:20231205T173000
DTEND;TZID=America/New_York:20231205T190000
DTSTAMP:20260424T181001
CREATED:20230512T014102Z
LAST-MODIFIED:20230512T014102Z
UID:1191-1701797400-1701802800@uclubvt.com
SUMMARY:Holiday Party
DESCRIPTION:Each month the UClub will have a Social event for its members and their guests. Beverages and appetizers will be provided.  Invitations will be sent out by email to members describing the event.  We ask that you RSVP in a timely manner. For further information\, please contact Pat Boyle.
URL:https://uclubvt.com/event/holiday-party-2023/
LOCATION:German Club\, 711 Southgate Drive\, Blacksburg\, VA\, 24060\, United States
CATEGORIES:Holiday Party
ATTACH;FMTTYPE=image/jpeg:https://uclubvt.com/wp-content/uploads/2018/10/Christmasparty.jpg
END:VEVENT
END:VCALENDAR